BEGIN:VCALENDAR
VERSION:2.0
PRODID:-//Courts Plus Community Fitness - ECPv6.15.20//NONSGML v1.0//EN
CALSCALE:GREGORIAN
METHOD:PUBLISH
X-ORIGINAL-URL:https://courtsplus.org
X-WR-CALDESC:Events for Courts Plus Community Fitness
REFRESH-INTERVAL;VALUE=DURATION:PT1H
X-Robots-Tag:noindex
X-PUBLISHED-TTL:PT1H
BEGIN:VTIMEZONE
TZID:America/Chicago
BEGIN:DAYLIGHT
TZOFFSETFROM:-0600
TZOFFSETTO:-0500
TZNAME:CDT
DTSTART:20240310T080000
END:DAYLIGHT
BEGIN:STANDARD
TZOFFSETFROM:-0500
TZOFFSETTO:-0600
TZNAME:CST
DTSTART:20241103T070000
END:STANDARD
BEGIN:DAYLIGHT
TZOFFSETFROM:-0600
TZOFFSETTO:-0500
TZNAME:CDT
DTSTART:20250309T080000
END:DAYLIGHT
BEGIN:STANDARD
TZOFFSETFROM:-0500
TZOFFSETTO:-0600
TZNAME:CST
DTSTART:20251102T070000
END:STANDARD
BEGIN:DAYLIGHT
TZOFFSETFROM:-0600
TZOFFSETTO:-0500
TZNAME:CDT
DTSTART:20260308T080000
END:DAYLIGHT
BEGIN:STANDARD
TZOFFSETFROM:-0500
TZOFFSETTO:-0600
TZNAME:CST
DTSTART:20261101T070000
END:STANDARD
END:VTIMEZONE
BEGIN:VEVENT
DTSTART;TZID=America/Chicago:20250812T173000
DTEND;TZID=America/Chicago:20250812T190000
DTSTAMP:20260425T110259
CREATED:20250627T151507Z
LAST-MODIFIED:20250627T151507Z
UID:10000244-1755019800-1755025200@courtsplus.org
SUMMARY:Member Summer Party
DESCRIPTION:Courts Plus members are invited to celebrate at our annual Summer party!\nHead to Rheault Farm for this free party for all members and their families!\n\nHotdogs and food from Nine DragonsFun activities including inflatables\, prizes\, dunk tank\, and carnival and water games!
URL:https://courtsplus.org/event/member-summer-party-2/
LOCATION:Rheault Farm\, 2902 25th St. S\, Fargo\, ND\, 58103\, United States
CATEGORIES:Family Events,Member Events
ATTACH;FMTTYPE=image/webp:https://courtsplus.org/wp-content/uploads/2025/03/Summer-Party.webp
END:VEVENT
END:VCALENDAR